Workbook

Sheet TOTAL 
Q1: =+Q1:AD25 -> 0 | T1: T9 | Y1: Y9
AB6: ='Certificado Otros Bienes'!P9+#REF! -> #REF!
Z7: ='Certificado Otros Bienes'!P9+'Certificado Social'!K33+#REF! -> #REF!
B8: Bolsa de Valores Descentralizada
B9: Montos transados (En Bs. y Ref.$) | T9: =SUM(C15:C705) -> 48 | U9: =SUM(D15:D249) -> 72304316 | V9: =SUM(E15:E249) -> 179059.43 | Y9: =SUM('Certificado Otros Bienes'!N10+'Certificado Social'!I33+#REF!) -> #REF! | Z9: =SUM('Certificado Otros Bienes'!P9+'Certificado Social'!K33+#REF!) -> #REF! | AA9: =SUM('Certificado Otros Bienes'!E15:E930)+SUM('Certificado Social'!E33:E1024)+SUM(#REF!) -> #REF!
B10: Año /2025/2026 | S10: =SUM(C15:C1048576) -> 48 | T10: =SUM(D15:D1048576) -> 72304316 | U10: =SUM(E15:E1048576) -> 179059.43 | AA10: ='Certificado Otros Bienes'!Q9+'Certificado Social'!E33+E16+#REF! -> #REF!
B11: -Todos los Mercados-
B12: Última actualización: 30/9/2026 | Y12: ='Certificado Otros Bienes'!O9+#REF! -> #REF! | Z12: ='Certificado Otros Bienes'!P9+#REF! -> #REF! | AA12: ='Certificado Otros Bienes'!Q9+#REF! -> #REF!
C13: =ROUND(T9,2)=ROUND(Y9,2) -> #REF! | D13: =ROUND(U9,2)=ROUND(Z9,2) -> #REF! | E13: =ROUND(V9,2)=ROUND(AA9,2) -> #REF! | F13: =ROUND(W9,2)=ROUND(AB9,2) -> TRUE
B14: Fecha | C14: Nº. Oper. | D14: Bs. | E14: Ref. $
B15: 45975 | C15: 1 | D15: 9677727.5 | E15: 41204.35 | U15: =U9-AB6 -> #REF!
B16: 46076 | C16: 1 | D16: 19969685 | E16: 49265.07
B17: 46127 | C17: 5 | D17: 1636723.2 | E17: 3360 | W17: =V9-AA9 -> #REF! | X17: =T10-Z9 -> #REF! | Y17: =U9-Z12 -> #REF! | Z17: =V9-AA12 -> #REF!
B18: 46128 | C18: 1 | D18: 350726.4 | E18: 720
B19: 46129 | C19: 1 | D19: 233817.6 | E19: 480
B20: 46131 | C20: 2 | D20: 701452.8 | E20: 1440
B21: 46133 | C21: 3 | D21: 818361.6 | E21: 1680
B22: 46134 | C22: 3 | D22: 1052179.2 | E22: 2160 | V22: =Y12-S10 -> #REF!
B23: 46140 | C23: 1 | D23: 350726.4 | E23: 720
B24: 46167 | C24: 3 | D24: 1186639.2 | E24: 2160
B25: 46168 | C25: 1 | D25: 395546.4 | E25: 720
B26: 46169 | C26: 3 | D26: 928435.3 | E26: 1690
B27: 46171 | C27: 1 | D27: 263697.6 | E27: 480
B28: 46176 | C28: 1 | D28: 422935.2 | E28: 720
B29: 46188 | C29: 1 | D29: 456019.2 | E29: 720
B30: 46196 | C30: 1 | D30: 23806315 | E30: 58730.01
B31: 46202 | C31: 1 | D31: 456019.2 | E31: 720
B32: 46203 | C32: 1 | D32: 304012.8 | E32: 480
B33: 46212 | C33: 1 | D33: 355617.5 | E33: 490
B34: 46220 | C34: 1 | D34: 530589.6 | E34: 720
... B41: 46295 | C41: 5 | D41: 3090931.2 | E41: 3600
B45: Nota 1: *Certificado de Otros Bienes
B46: *Certificado Social
B47: Nota 2: Ref. $ equivale al Tipo de Cambio Oficial de las operaciones en moneda extranjera transadas en las mesas de cambio de los operadores cambiarios, según lo establecido en el artículo 9 del Convenio Cambiario N° 1 Parágrafo Primero y el artículo 3 de la Resolución N° 19-05-01.
B48: Nota 3: Listado de Feriados Nacionales y Bancarios:
B49: 01/01 Año Nuevo.
B50: 06/01 Día de Reyes
B51: * 14/01 Día de la Divina Pastora
B52: 12/02 Carnaval
B53: 13/02 Carnaval
B54: 19/03 Día de San José
B55: 28/03 Semana Santa
B56: 29/03 Semana Santa
... B79: Fuente: Bolsa de valores Descentralizada y cálculos propios de la Superintendencia Nacional de Valores.

Sheet Certificado Otros Bienes
O1: T9
B8: Bolsa de Valores Descentralizada
B9: Montos transados (En Bs. y Ref.$) | O9: =SUM(C15:C930) -> 3 | P9: =SUM(D15:D1880) -> 53453728 | Q9: =SUM(E15:E930) -> 149199.43
B10: ='TOTAL '!B10:E10 -> Año /2025/2026 | N10: =SUM(C15:C1048576) -> 3 | O10: =SUM(D15:D1048576) -> 53453728 | P10: =SUM(E15:E1048576) -> 149199.43
B11: Ceritificado de Otros Bienes
B12: {='TOTAL '!B12:B12} -> Última actualización: 30/9/2026
B14: Fecha | C14: Nº. Oper. | D14: Bs. | E14: Ref. $
B15: 45975 | C15: 1 | D15: 9677727.5 | E15: 41204.35
B16: 46076 | C16: 1 | D16: 19969685 | E16: 49265.07
B17: 46196 | C17: 1 | D17: 23806315 | E17: 58730.01
B24: Fuente: Bolsa de valores Descentralizada y cálculos propios de la Superintendencia Nacional de Valores.

Sheet Certificado Social
B8: Bolsa de Valores Descentralizada
B9: Montos transados (En Bs. y Ref.$)
B10: Año 2026
B11: Certificado Social
B12: {='TOTAL '!B12:B12} -> Última actualización: 30/9/2026
B14: Fecha | C14: Nº. Oper. | D14: Bs. | E14: Ref. $
B15: 46127 | C15: 5 | D15: 1636723.2 | E15: 3360
B16: 46128 | C16: 1 | D16: 350726.4 | E16: 720
B17: 46129 | C17: 1 | D17: 233817.6 | E17: 480
B18: 46131 | C18: 2 | D18: 701452.8 | E18: 1440
B19: 46133 | C19: 3 | D19: 818361.6 | E19: 1680
B20: 46134 | C20: 3 | D20: 1052179.2 | E20: 2160
B21: 46140 | C21: 1 | D21: 350726.4 | E21: 720
B22: 46167 | C22: 3 | D22: 1186639.2 | E22: 2160
B23: 46168 | C23: 1 | D23: 395546.4 | E23: 720
B24: 46169 | C24: 3 | D24: 928435.3 | E24: 1690
B25: 46171 | C25: 1 | D25: 263697.6 | E25: 480
B26: 46176 | C26: 1 | D26: 422935.2 | E26: 720
... B32: 46226 | C32: 1 | D32: 531273.6 | E32: 720
B33: 46230 | C33: 1 | D33: 534823.2 | E33: 720 | I33: =SUM(C33:C120) -> 14 | K33: =SUM(D33:D120) -> 7875816 | L33: =SUM(E33:E120) -> 9680
B34: 46232 | C34: 1 | D34: 537573.6 | E34: 720
B35: 46262 | C35: 5 | D35: 2723344.8 | E35: 3440
B36: 46269 | C36: 1 | D36: 579463.2 | E36: 720
B37: 46288 | C37: 1 | D37: 409680 | E37: 480
B38: 46295 | C38: 5 | D38: 3090931.2 | E38: 3600
B46: Fuente: Bolsa de valores Descentralizada y cálculos propios de la Superintendencia Nacional de Valores.
